BEGIN:VCALENDAR
VERSION:2.0
PRODID:icalendar-ruby
CALSCALE:GREGORIAN
METHOD:PUBLISH
BEGIN:VTIMEZONE
TZID:Europe/Oslo
BEGIN:DAYLIGHT
DTSTART:20260329T030000
TZOFFSETFROM:+0100
TZOFFSETTO:+0200
RRULE:FREQ=YEARLY;BYDAY=-1SU;BYMONTH=3
TZNAME:CEST
END:DAYLIGHT
BEGIN:STANDARD
DTSTART:20261025T020000
TZOFFSETFROM:+0200
TZOFFSETTO:+0100
RRULE:FREQ=YEARLY;BYDAY=-1SU;BYMONTH=10
TZNAME:CET
END:STANDARD
END:VTIMEZONE
BEGIN:VEVENT
DTSTAMP:20260422T022535Z
UID:1113107
DTSTART;TZID=Europe/Oslo:20260705T193000
DTEND;TZID=Europe/Oslo:20260705T203000
LOCATION:Bergen Cathedral - Bergen domkirke
SEQUENCE:1776802548
SUMMARY:Bergen orgelsommer - Bergen International Organ Festival - James D.
  Hicks
END:VEVENT
END:VCALENDAR
